BEGIN:VCALENDAR
VERSION:2.0
PRODID:-//Library Market//iCal Export//EN
BEGIN:VEVENT
SUMMARY:Free Comic Book Day
UID:26482
DTSTAMP:20260422T115800Z
DTSTART:20260502T180000Z
DTEND:20260502T200000Z
LOCATION:400 Willow Ave, Council Bluffs, IA 51503, United States
ROOM: Atrium
DESCRIPTION:Join us for Free Comic Book Day (FCBD), one of the comic book 
 industry’s most beloved and anticipated celebrations!Stop by and pick ou
 t a free comic!
URL:https://www.councilbluffslibrary.org/event/free-comic-book-day-26482
END:VEVENT
END:VCALENDAR
