BEGIN:VCALENDAR
VERSION:2.0
PRODID:-//Library Market//iCal Export//EN
BEGIN:VEVENT
SUMMARY:3D Printing Drop-In
UID:27500
DTSTAMP:20260419T193100Z
DTSTART:20260610T190000Z
DTEND:20260610T210000Z
LOCATION:400 Willow Ave, Council Bluffs, IA 51503, United States
ROOM: Makerspace Drop-In
DESCRIPTION:Stop by the Makerspace to learn about the process of 3D Printi
 ng! Take home a 3d printed star. This is a drop-in program. Pop by any ti
 me between 2 and 4 p.m.
URL:https://www.councilbluffslibrary.org/event/3d-printing-drop-27500
END:VEVENT
END:VCALENDAR
