BEGIN:VCALENDAR
VERSION:2.0
PRODID:-//Library Market//iCal Export//EN
BEGIN:VEVENT
SUMMARY:Patriotic Tie-dye @ Cochran Park
UID:28130
DTSTAMP:20260419T193100Z
DTSTART:20260613T150000Z
DTEND:20260613T170000Z
LOCATION:100 South 21st St, Council Bluffs, IA 51501, United States
ROOM: Patriotic Tie-dye @ Cochran Park
DESCRIPTION:Drop by the park to get ready for America 250 with red, white,
  and blue tie-dye! Bring a white cotton clothing item (t-shirt, socks, ban
 dana, etc.) and we&#039;ll provide the rest! This program is for all ages,
  while supplies last.In the event of inclement weather, this program will 
 be canceled.
URL:https://www.councilbluffslibrary.org/event/patriotic-tie-dye-cochran-p
 ark-28130
END:VEVENT
END:VCALENDAR
